BEGIN:VCALENDAR
VERSION:2.0
PRODID:-//ChamberMaster//Event Calendar 2.0//EN
METHOD:PUBLISH
X-PUBLISHED-TTL:P3D
REFRESH-INTERVAL:P3D
CALSCALE:GREGORIAN
BEGIN:VEVENT
DTSTART:20241211T123000Z
DTEND:20241211T133000Z
X-MICROSOFT-CDO-ALLDAYEVENT:FALSE
SUMMARY:2024-12-11 M&SCA Combined Board of Governors Meeting
DESCRIPTION:2024-12-11 M&SCA Combined Board of Governors Meeting
X-ALT-DESC;FMTTYPE=text/html:<strong>2024-12-11 M&amp\;SCA Combined Board of Governors Meeting</strong>
LOCATION:Amenities Center Conference Rooms 721 Arbor Way Blue Bell\, PA 19422
UID:e.9527.416
SEQUENCE:3
DTSTAMP:20260425T102825Z
URL:https://www.mcaepa.org/events/details/2024-12-11-m-sca-combined-board-of-governors-meeting-416
END:VEVENT

END:VCALENDAR
