BEGIN:VCALENDAR
VERSION:2.0
PRODID:-//ChamberMaster//Event Calendar 2.0//EN
METHOD:PUBLISH
X-PUBLISHED-TTL:P3D
REFRESH-INTERVAL:P3D
CALSCALE:GREGORIAN
BEGIN:VEVENT
DTSTART:20241218T173000Z
DTEND:20241218T190000Z
X-MICROSOFT-CDO-ALLDAYEVENT:FALSE
SUMMARY:2024-12-18 NCPWB Board and Technical Committee Luncheon
DESCRIPTION:NCPWB Board and Technical Committee
X-ALT-DESC;FMTTYPE=text/html:<strong>NCPWB Board and Technical Committee</strong><br />\n&nbsp\;
LOCATION:Capital Grille King of Prussia 236 Mall Boulevard King of Prussia\, PA
UID:e.9527.478
SEQUENCE:3
DTSTAMP:20260425T102548Z
URL:https://www.mcaepa.org/events/details/2024-12-18-ncpwb-board-and-technical-committee-luncheon-478
END:VEVENT

END:VCALENDAR
